BEGIN:VCALENDAR
VERSION:2.0
PRODID:-//Derwent Bowmen Archery Club - ECPv6.15.17//NONSGML v1.0//EN
CALSCALE:GREGORIAN
METHOD:PUBLISH
X-ORIGINAL-URL:https://derwentbowmen.co.uk
X-WR-CALDESC:Events for Derwent Bowmen Archery Club
REFRESH-INTERVAL;VALUE=DURATION:PT1H
X-Robots-Tag:noindex
X-PUBLISHED-TTL:PT1H
BEGIN:VTIMEZONE
TZID:Europe/London
BEGIN:DAYLIGHT
TZOFFSETFROM:+0000
TZOFFSETTO:+0100
TZNAME:BST
DTSTART:20220327T010000
END:DAYLIGHT
BEGIN:STANDARD
TZOFFSETFROM:+0100
TZOFFSETTO:+0000
TZNAME:GMT
DTSTART:20221030T010000
END:STANDARD
BEGIN:DAYLIGHT
TZOFFSETFROM:+0000
TZOFFSETTO:+0100
TZNAME:BST
DTSTART:20230326T010000
END:DAYLIGHT
BEGIN:STANDARD
TZOFFSETFROM:+0100
TZOFFSETTO:+0000
TZNAME:GMT
DTSTART:20231029T010000
END:STANDARD
BEGIN:DAYLIGHT
TZOFFSETFROM:+0000
TZOFFSETTO:+0100
TZNAME:BST
DTSTART:20240331T010000
END:DAYLIGHT
BEGIN:STANDARD
TZOFFSETFROM:+0100
TZOFFSETTO:+0000
TZNAME:GMT
DTSTART:20241027T010000
END:STANDARD
END:VTIMEZONE
BEGIN:VEVENT
DTSTART;TZID=Europe/London:20231015T093000
DTEND;TZID=Europe/London:20231015T123000
DTSTAMP:20260420T192001
CREATED:20231001T141036Z
LAST-MODIFIED:20231001T141036Z
UID:280-1697362200-1697373000@derwentbowmen.co.uk
SUMMARY:Autumn Beginners’ Course 23 – Session 2
DESCRIPTION:  \nEver wanted to learn archery? The beginners’ course is a foundation in the basics of archery\, from being safe with a bow to learning how to aim and shoot. \n\n\nThis is the requirement for Archery GB and on successful completion of the course you will be given a certificate which will enable you to join any club in Great Britain. \n\nThe course will run:\n7th Oct – 09:30 – 12:30\n15th Oct – 09:30 – 12:30\n22nd Oct – 09:30 – 12:30\n29th Oct – 09:30 – 12:30\nTo complete the course you must complete all 4 sessions and have acquired 12 hours of training.\nAll required equipment and tuition is included.\n\nFor more information please contact: beginners@derwentbowmen.co.uk \nMembers to note: Indoor range closure at these times. Facilities still available to use throughout.
URL:https://derwentbowmen.co.uk/event/autumn-beginners-course-23-session-2/
LOCATION:Derwent Bowmen Archery Club\, Gold Close\, Matlock\, Derbyshire\, DE4 2LA\, United Kingdom
CATEGORIES:Beginners' Course
END:VEVENT
END:VCALENDAR