BEGIN:VCALENDAR
VERSION:2.0
PRODID:-//Derwent Bowmen Archery Club - ECPv6.15.17//NONSGML v1.0//EN
CALSCALE:GREGORIAN
METHOD:PUBLISH
X-WR-CALNAME:Derwent Bowmen Archery Club
X-ORIGINAL-URL:https://derwentbowmen.co.uk
X-WR-CALDESC:Events for Derwent Bowmen Archery Club
REFRESH-INTERVAL;VALUE=DURATION:PT1H
X-Robots-Tag:noindex
X-PUBLISHED-TTL:PT1H
BEGIN:VTIMEZONE
TZID:Europe/London
BEGIN:DAYLIGHT
TZOFFSETFROM:+0000
TZOFFSETTO:+0100
TZNAME:BST
DTSTART:20250330T010000
END:DAYLIGHT
BEGIN:STANDARD
TZOFFSETFROM:+0100
TZOFFSETTO:+0000
TZNAME:GMT
DTSTART:20251026T010000
END:STANDARD
BEGIN:DAYLIGHT
TZOFFSETFROM:+0000
TZOFFSETTO:+0100
TZNAME:BST
DTSTART:20260329T010000
END:DAYLIGHT
BEGIN:STANDARD
TZOFFSETFROM:+0100
TZOFFSETTO:+0000
TZNAME:GMT
DTSTART:20261025T010000
END:STANDARD
BEGIN:DAYLIGHT
TZOFFSETFROM:+0000
TZOFFSETTO:+0100
TZNAME:BST
DTSTART:20270328T010000
END:DAYLIGHT
BEGIN:STANDARD
TZOFFSETFROM:+0100
TZOFFSETTO:+0000
TZNAME:GMT
DTSTART:20271031T010000
END:STANDARD
END:VTIMEZONE
BEGIN:VEVENT
DTSTART;TZID=Europe/London:20260906T090000
DTEND;TZID=Europe/London:20260906T170000
DTSTAMP:20260421T040517
CREATED:20260420T174239Z
LAST-MODIFIED:20260420T174722Z
UID:1109-1788685200-1788714000@derwentbowmen.co.uk
SUMMARY:Derwent Bowmen Open Double American
DESCRIPTION:Derwent Bowmen are hosting a Double American this Autumn. \nDouble American is 60yd\, 50yd and 40yds shooting 2 ½ dozen per distance. \nAdditional Information: \n\nENTRY FEE: £8.00 for a single\, £12 for a double\nAssembly – 9:45 am Sighters – 10.00 am\nJudges: TBA\nLady Paramount/Lord Patron will be announced on the day\nMedals will be awarded according to entries\n\nThe entry form can be downloaded below. Completed forms to be sent to tournaments@derwentbowmen.co.uk \n  \nOpen Double American Shoot
URL:https://derwentbowmen.co.uk/event/derwent-bowmen-open-double-american/
LOCATION:Derwent Bowmen Archery Club\, Gold Close\, Matlock\, Derbyshire\, DE4 2LA\, United Kingdom
ATTACH;FMTTYPE=image/jpeg:https://derwentbowmen.co.uk/wp-content/uploads/2024/05/P5192966-68bsmall-scaled.webp
END:VEVENT
BEGIN:VEVENT
DTSTART;TZID=Europe/London:20261004T093000
DTEND;TZID=Europe/London:20261004T170000
DTSTAMP:20260421T040517
CREATED:20260420T173202Z
LAST-MODIFIED:20260420T174732Z
UID:1104-1791106200-1791133200@derwentbowmen.co.uk
SUMMARY:Memorial Shoot
DESCRIPTION:Derwent Bowmen Archery Club Memorial Shoot (Formerly the Ian Wright Memorial Shoot) \nLongbow\, Barebow\, and Flatbows are all welcome to this Western Round. \nAdditional Information: \n\nEntries from AGB members only\nJuniors are welcome to shoot\nAGB Cards must be shown on the day\nEntry Fee:  £8.00\n\nThe entry form can be downloaded below. Completed forms to be sent to  tournaments@derwentbowmen.co.uk \n  \nMemorial Shoot Entry Form\n 
URL:https://derwentbowmen.co.uk/event/memorial-shoot/
LOCATION:Derwent Bowmen Archery Club\, Gold Close\, Matlock\, Derbyshire\, DE4 2LA\, United Kingdom
ATTACH;FMTTYPE=image/jpeg:https://derwentbowmen.co.uk/wp-content/uploads/2026/04/DSC_0011-scaled.webp
END:VEVENT
BEGIN:VEVENT
DTSTART;TZID=Europe/London:20261017T080000
DTEND;TZID=Europe/London:20261017T170000
DTSTAMP:20260421T040517
CREATED:20260419T202944Z
LAST-MODIFIED:20260419T203154Z
UID:1088-1792224000-1792256400@derwentbowmen.co.uk
SUMMARY:UKRS Worcester 2026
DESCRIPTION:Derwent Bowmen are pleased to host a Worcester round with UK Record Status.\n\nThe event will be run over three sessions across the day\, with places available for up to 24 archers per session.\nSession start times are 9:00am\, 12:00 noon\, and 3:00pm.\n \nCost: £10 for Seniors\, £7 for Juniors\n \n\nApplication will open on 01/06/2026\n\n\n  \n\nAwards\n\n\nAn awards ceremony will take place at the conclusion of shooting\, followed by the presentation of medals for each bowstyle and gender in the 50+\, Senior\, and combined Junior categories.\n\nDerbyshire County Archery Association indoor badges will be available to qualifying archers on the day.\n\n  \nOther Information\n\nRefreshments will be available throughout the day. A raffle will be drawn prior to the awards ceremony\, with tickets available throughout the day. All archers are welcome to a friendly and well-run competition.\n\nMusic will be played throughout the event. Archers with sensory sensitivities are encouraged to note this on their entry form or contact the organisers in advance\, and we will do our best to accommodate requests by positioning them away from the speakers.\n\nThe venue is fully wheelchair accessible\, including accessible toilet facilities.
URL:https://derwentbowmen.co.uk/event/ukrs-worcester-2026/
LOCATION:Derwent Bowmen Archery Club\, Gold Close\, Matlock\, Derbyshire\, DE4 2LA\, United Kingdom
ATTACH;FMTTYPE=image/jpeg:https://derwentbowmen.co.uk/wp-content/uploads/2026/04/609936805_18554189653057597_3266688962591918397_n.webp
END:VEVENT
END:VCALENDAR