BEGIN:VCALENDAR
VERSION:2.0
PRODID:-//Derwent Bowmen Archery Club - ECPv6.15.17//NONSGML v1.0//EN
CALSCALE:GREGORIAN
METHOD:PUBLISH
X-WR-CALNAME:Derwent Bowmen Archery Club
X-ORIGINAL-URL:https://derwentbowmen.co.uk
X-WR-CALDESC:Events for Derwent Bowmen Archery Club
REFRESH-INTERVAL;VALUE=DURATION:PT1H
X-Robots-Tag:noindex
X-PUBLISHED-TTL:PT1H
BEGIN:VTIMEZONE
TZID:Europe/London
BEGIN:DAYLIGHT
TZOFFSETFROM:+0000
TZOFFSETTO:+0100
TZNAME:BST
DTSTART:20220327T010000
END:DAYLIGHT
BEGIN:STANDARD
TZOFFSETFROM:+0100
TZOFFSETTO:+0000
TZNAME:GMT
DTSTART:20221030T010000
END:STANDARD
BEGIN:DAYLIGHT
TZOFFSETFROM:+0000
TZOFFSETTO:+0100
TZNAME:BST
DTSTART:20230326T010000
END:DAYLIGHT
BEGIN:STANDARD
TZOFFSETFROM:+0100
TZOFFSETTO:+0000
TZNAME:GMT
DTSTART:20231029T010000
END:STANDARD
BEGIN:DAYLIGHT
TZOFFSETFROM:+0000
TZOFFSETTO:+0100
TZNAME:BST
DTSTART:20240331T010000
END:DAYLIGHT
BEGIN:STANDARD
TZOFFSETFROM:+0100
TZOFFSETTO:+0000
TZNAME:GMT
DTSTART:20241027T010000
END:STANDARD
END:VTIMEZONE
BEGIN:VEVENT
DTSTART;TZID=Europe/London:20231004T150000
DTEND;TZID=Europe/London:20231004T190000
DTSTAMP:20260422T000950
CREATED:20230808T123007Z
LAST-MODIFIED:20230808T123007Z
UID:223-1696431600-1696446000@derwentbowmen.co.uk
SUMMARY:Club October Working Party
DESCRIPTION:Club October Working Party. \nPlenty of things to do\, fix and clean. \n15:00 assembly however will be ongoing in to the evening for those not at work / school. \nJobs to be done for all age ranges and abilities. \nAttendance is not compulsory. However if you can’t attend\, please try and do / clean something at another time. It’s all appreciated.
URL:https://derwentbowmen.co.uk/event/club-october-working-party/
LOCATION:Derbyshire
END:VEVENT
BEGIN:VEVENT
DTSTART;TZID=Europe/London:20230930T103000
DTEND;TZID=Europe/London:20230930T163000
DTSTAMP:20260422T000950
CREATED:20230808T124156Z
LAST-MODIFIED:20230912T113738Z
UID:229-1696069800-1696091400@derwentbowmen.co.uk
SUMMARY:Club Handicap Champs
DESCRIPTION:Club handicap champs.\nSighters at 10:30.\nIf you can help setup targets please arrive a little earlier.\nRound will be a St George / Albion / Windsor or age appropriate round.\nOutdoor range closure from 10:00 until it is completed.
URL:https://derwentbowmen.co.uk/event/club-handicap-champs/
LOCATION:Derwent Bowmen Archery Club\, Gold Close\, Matlock\, Derbyshire\, DE4 2LA\, United Kingdom
CATEGORIES:Club Shoots
END:VEVENT
BEGIN:VEVENT
DTSTART;TZID=Europe/London:20230914T193000
DTEND;TZID=Europe/London:20230914T213000
DTSTAMP:20260422T000950
CREATED:20230808T123512Z
LAST-MODIFIED:20230808T151709Z
UID:225-1694719800-1694727000@derwentbowmen.co.uk
SUMMARY:Club Regular Meeting - September 23
DESCRIPTION:Club Regular Meeting. \nWill be held in person at the club (pending any short notice bridge closes\, again). \nStarts at 19:30. \nAgenda will be sent out shortly before the meeting.
URL:https://derwentbowmen.co.uk/event/club-regular-meeting-september-23/
LOCATION:Derwent Bowmen Archery Club\, Gold Close\, Matlock\, Derbyshire\, DE4 2LA\, United Kingdom
CATEGORIES:Meeting
END:VEVENT
BEGIN:VEVENT
DTSTART;TZID=Europe/London:20230910T080000
DTEND;TZID=Europe/London:20230910T170000
DTSTAMP:20260422T000950
CREATED:20230802T142006Z
LAST-MODIFIED:20230802T143425Z
UID:61-1694332800-1694365200@derwentbowmen.co.uk
SUMMARY:DCAA Outdoor Champs 23
DESCRIPTION:Derbyshire County Archery Association Outdoor Championships\, hosted by Greasley Castle. \nUKRS WA720 shoot. Now allowing carbon arrows.\n \nWhen: Sunday 10th September 2023 – Registration 08:00\, Assembly 08:45.\nLocation: Greasley Castle Archers\, Church Road\, Nottingham NG16 2AB\nWhat3Words ///final.incensed.seagull\nRound: Double WA720 or appropriate rounds for Juniors\, 50+ etc\nCost: £14 for Seniors £8 for Juniors (halved if not taking part in the double) \nDCAA Outdoor Champs 23 – Full Details \nThe 2023 Outdoor County Championships will be a Double 720 held on September 10th at Greasley Castle Archers. \nThe application can be made online here: entry form\nA manual entry form is attached to the prospectus here then can be emailed to: outdoorchamps@derbyshirearchery.com.\nThe entry fee is £14 for Seniors £8 for Juniors (halved if not taking part in the double).  Please send your fee by BACS transfer where possible\, using your surname and “Champs” as the reference.  The bank details are in the prospectus or at the end of the online form.
URL:https://derwentbowmen.co.uk/event/dcaa-outdoor-champs-23/
LOCATION:Greasley Castle Archers\, Greasley Castle Archers\, Nottingham\, Nottinghamshire\, NG16 2AB\, United Kingdom
CATEGORIES:County Events
END:VEVENT
BEGIN:VEVENT
DTSTART;TZID=Europe/London:20230826T090000
DTEND;TZID=Europe/London:20230826T130000
DTSTAMP:20260422T000951
CREATED:20230808T122402Z
LAST-MODIFIED:20230808T122855Z
UID:220-1693040400-1693054800@derwentbowmen.co.uk
SUMMARY:Club August Working Party
DESCRIPTION:Club August Working Party. \nPlenty of things to do\, fix and clean. \n09:00 assembly. \nJobs to be done for all age ranges and abilities. \nAttendance is not compulsory. However if you can’t attend\, please try and do / clean something at another time. It’s all appreciated.
URL:https://derwentbowmen.co.uk/event/club-august-working-party/
LOCATION:Derwent Bowmen Archery Club\, Gold Close\, Matlock\, Derbyshire\, DE4 2LA\, United Kingdom
CATEGORIES:Working Party
END:VEVENT
BEGIN:VEVENT
DTSTART;TZID=Europe/London:20230819T101500
DTEND;TZID=Europe/London:20230819T170000
DTSTAMP:20260422T000951
CREATED:20230802T141626Z
LAST-MODIFIED:20230802T143453Z
UID:57-1692440100-1692464400@derwentbowmen.co.uk
SUMMARY:Club / County Clout Champs
DESCRIPTION:Club & Derbyshire County Archery Association Clout Championship 23\, hosted by The Clout Collective.\nAssembly 10.15am\nSighters 10.30am\nDouble One-Way Metric Clout\nTassel Award and UK Record Status \nIf you wish to attend please sign up in foyer of the club house. \nJohn Port Spencer Academy\, Etwall\, Derby\, DE65 6LU\nwhat3words https://what3words.com/newleyweds.fillers.wiggling
URL:https://derwentbowmen.co.uk/event/club-county-clout-champs/
LOCATION:John Port Spencer Academy\, John Port Spencer Academy\, Derby\, Derbyshire\, DE65 6LU\, United Kingdom
END:VEVENT
BEGIN:VEVENT
DTSTART;TZID=Europe/London:20230813T093000
DTEND;TZID=Europe/London:20230813T160000
DTSTAMP:20260422T000951
CREATED:20230802T135452Z
LAST-MODIFIED:20230802T135452Z
UID:51-1691919000-1691942400@derwentbowmen.co.uk
SUMMARY:Club Target Champs
DESCRIPTION:Members only. \nRound will be a WA1440.\nJuniors will be shooting Long Metrics. \nSighters 09:30\nArrive a little earlier if you’re able to help move targets and put out faces. \nOutdoor range closure for the duration.
URL:https://derwentbowmen.co.uk/event/club-target-champs23/
LOCATION:Derwent Bowmen Archery Club\, Gold Close\, Matlock\, Derbyshire\, DE4 2LA\, United Kingdom
CATEGORIES:Club Shoots,Events
END:VEVENT
BEGIN:VEVENT
DTSTART;TZID=Europe/London:20230803T190000
DTEND;TZID=Europe/London:20230803T210000
DTSTAMP:20260422T000951
CREATED:20230802T141336Z
LAST-MODIFIED:20230802T141336Z
UID:55-1691089200-1691096400@derwentbowmen.co.uk
SUMMARY:Club Monthly Meeting
DESCRIPTION:Club member meeting via Zoom. \nLinks to the Zoom call are sent out before the meeting in an email. This email will also contain the minutes from the last meeting and the agenda for the current meeting plus any relevant information. \nIf you don’t receive this email please contact webmaster@derwentbowmen.co.uk
URL:https://derwentbowmen.co.uk/event/club-monthly-meeting/
LOCATION:Derbyshire
END:VEVENT
END:VCALENDAR